BEGIN:VCALENDAR
VERSION:2.0
PRODID:-//Plone.org//NONSGML plone.app.event//EN
X-WR-TIMEZONE:US/Central
BEGIN:VEVENT
SUMMARY:National Poetry Month
DTSTART;TZID=US/Central:20260401T090000
DTEND;TZID=US/Central:20260430T190000
DTSTAMP:20260424T144618Z
UID:cb3fab2b5ae54ebfb42e193c0b022918@saas_stack_varnish:6080
CREATED:20260331T182301Z
DESCRIPTION:Adults may participate in our poetry contest. See announcement
 s for more details.
LAST-MODIFIED:20260331T182313Z
URL:https://www.greenvillepubliclibrary.org/news-events/lib-cal/national-p
 oetry-month-2
END:VEVENT
BEGIN:VEVENT
SUMMARY:National Scrapbook Day
DTSTART;VALUE=DATE:20260502
DTEND;VALUE=DATE:20260503
DTSTAMP:20260424T144618Z
UID:7b49f04e682d41fba0121600118ccbc1@saas_stack_varnish:6080
CREATED:20260420T185637Z
DESCRIPTION:Check out material and enter your name into a drawing for a sc
 rapbook kit.
LAST-MODIFIED:20260420T185657Z
URL:https://www.greenvillepubliclibrary.org/news-events/lib-cal/national-s
 crapbook-day-1
END:VEVENT
BEGIN:VEVENT
SUMMARY:Story Time
DTSTART;TZID=US/Central:20241207T103000
DTSTAMP:20260424T144618Z
UID:e0f385a7a0fb4d60bfb5ed2373218f8a@saas_stack_varnish:6080
RRULE:FREQ=MONTHLY;COUNT=12;BYDAY=+1SA
CREATED:20241125T215216Z
DESCRIPTION:Join us for story time on the first Saturday of every month at
  10:30 am.
LAST-MODIFIED:20241125T215226Z
URL:https://www.greenvillepubliclibrary.org/news-events/lib-cal/story-time
 -3
END:VEVENT
BEGIN:VEVENT
SUMMARY:Saturday Story Time
DTSTART;TZID=US/Central:20260502T103000
DTSTAMP:20260424T144618Z
UID:2a5e096e457d4a37ad5f2d2a6b91dbc9@saas_stack_varnish:6080
RRULE:FREQ=MONTHLY;COUNT=12;BYDAY=+1SA
EXDATE;TZID=US/Central:20260704T000000
CREATED:20260331T183307Z
DESCRIPTION:Join us for Story Time on the first Saturday of every month.
LAST-MODIFIED:20260331T183317Z
URL:https://www.greenvillepubliclibrary.org/news-events/lib-cal/saturday-s
 tory-time-2
END:VEVENT
BEGIN:VEVENT
SUMMARY:Lego Club
DTSTART;TZID=US/Central:20250206T160000
DTEND;TZID=US/Central:20250206T180000
DTSTAMP:20260424T144618Z
UID:4dfe5eda17cb45de90fb7846ee064d56@saas_stack_varnish:6080
RRULE:FREQ=MONTHLY;COUNT=10;BYDAY=+1TH
CREATED:20250108T210233Z
DESCRIPTION:Drop by to participate in Lego building at the Library. See an
 nouncements for more information.
LAST-MODIFIED:20250108T210238Z
URL:https://www.greenvillepubliclibrary.org/news-events/lib-cal/lego-club-
 1
END:VEVENT
BEGIN:VEVENT
SUMMARY:Lego Club
DTSTART;TZID=US/Central:20260507T160000
DTEND;TZID=US/Central:20260507T180000
DTSTAMP:20260424T144618Z
UID:c0e2c937f6264a64a9033aebebe12800@saas_stack_varnish:6080
RRULE:FREQ=MONTHLY;COUNT=12;BYDAY=+1TH
CREATED:20260331T183837Z
DESCRIPTION:Children may participate in the Library's Lego Club. See annou
 ncements for more details.
LAST-MODIFIED:20260331T183846Z
URL:https://www.greenvillepubliclibrary.org/news-events/lib-cal/lego-club-
 2
END:VEVENT
BEGIN:VEVENT
SUMMARY:Board Meeting
DTSTART;TZID=US/Central:20260514T160000
DTSTAMP:20260424T144618Z
UID:40d6f433818e4e9f949de6aa0acb1625@saas_stack_varnish:6080
RRULE:FREQ=MONTHLY;COUNT=12;BYDAY=+2TH
CREATED:20260420T190223Z
DESCRIPTION:Board meetings are typically scheduled for the second Thursday
  of the month.
LAST-MODIFIED:20260420T190237Z
URL:https://www.greenvillepubliclibrary.org/news-events/lib-cal/board-meet
 ing-10
END:VEVENT
BEGIN:VEVENT
SUMMARY:Lego Club
DTSTART;TZID=US/Central:20250116T160000
DTEND;TZID=US/Central:20250116T180000
DTSTAMP:20260424T144618Z
UID:7a1035f938254d0b8d3f182af474642d@saas_stack_varnish:6080
RRULE:FREQ=MONTHLY;COUNT=10;BYDAY=+3TH
CREATED:20250108T210058Z
DESCRIPTION:Drop by to participate in Lego building at the Library. See an
 nouncements for more information.
LAST-MODIFIED:20250108T210109Z
URL:https://www.greenvillepubliclibrary.org/news-events/lib-cal/lego-club
END:VEVENT
BEGIN:VEVENT
SUMMARY:Lego Club
DTSTART;TZID=US/Central:20260521T160000
DTEND;TZID=US/Central:20260521T180000
DTSTAMP:20260424T144618Z
UID:8765ca67230b4e69ad0fe920a610f3b8@saas_stack_varnish:6080
RRULE:FREQ=MONTHLY;COUNT=12;BYDAY=+3TH
EXDATE;TZID=US/Central:20261119T000000
CREATED:20260331T184046Z
DESCRIPTION:Children may participate in the Library's Lego Club. See annou
 ncements for more details.
LAST-MODIFIED:20260331T184057Z
URL:https://www.greenvillepubliclibrary.org/news-events/lib-cal/lego-club-
 3
END:VEVENT
BEGIN:VTIMEZONE
TZID:US/Central
X-LIC-LOCATION:US/Central
BEGIN:DAYLIGHT
DTSTART:20260308T030000
TZNAME:CDT
TZOFFSETFROM:-0600
TZOFFSETTO:-0500
END:DAYLIGHT
BEGIN:STANDARD
DTSTART:20241103T010000
TZNAME:CST
TZOFFSETFROM:-0500
TZOFFSETTO:-0600
END:STANDARD
END:VTIMEZONE
END:VCALENDAR
