BEGIN:VCALENDAR
VERSION:2.0
PRODID:-//Plone.org//NONSGML plone.app.event//EN
X-WR-TIMEZONE:US/Central
BEGIN:VEVENT
SUMMARY:Adult Coloring Contest
DTSTART;TZID=US/Central:20230303T100000
DTEND;TZID=US/Central:20230318T114500
DTSTAMP:20260419T123819Z
UID:29da6d12842f477ab73ff11d92d9ecfc@saas_stack_varnish:6080
CREATED:20230228T213010Z
DESCRIPTION:Adults may participate in our Spring coloring contest.
LAST-MODIFIED:20230228T213017Z
URL:https://www.greenvillepubliclibrary.org/news-events/lib-cal/adult-colo
 ring-contest-2
END:VEVENT
BEGIN:VTIMEZONE
TZID:US/Central
X-LIC-LOCATION:US/Central
BEGIN:STANDARD
DTSTART:20221106T010000
TZNAME:CST
TZOFFSETFROM:-0500
TZOFFSETTO:-0600
END:STANDARD
BEGIN:DAYLIGHT
DTSTART:20230312T030000
TZNAME:CDT
TZOFFSETFROM:-0600
TZOFFSETTO:-0500
END:DAYLIGHT
END:VTIMEZONE
END:VCALENDAR
