BEGIN:VCALENDAR
VERSION:2.0
PRODID:-//Plone.org//NONSGML plone.app.event//EN
X-WR-TIMEZONE:US/Central
BEGIN:VEVENT
SUMMARY:Adult Fall Coloring Contest
DTSTART;TZID=US/Central:20250912T090000
DTEND;TZID=US/Central:20250927T120000
DTSTAMP:20260422T145502Z
UID:0420e403ed1e4a2196e198ee91bba961@saas_stack_varnish:6080
CREATED:20250904T174326Z
DESCRIPTION:Pick up your special color sheet and return it no later than S
 aturday\, September 27th.
LAST-MODIFIED:20250904T174340Z
URL:https://www.greenvillepubliclibrary.org/news-events/lib-cal/adult-fall
 -coloring-contest
END:VEVENT
BEGIN:VTIMEZONE
TZID:US/Central
X-LIC-LOCATION:US/Central
BEGIN:DAYLIGHT
DTSTART:20250309T030000
TZNAME:CDT
TZOFFSETFROM:-0600
TZOFFSETTO:-0500
END:DAYLIGHT
END:VTIMEZONE
END:VCALENDAR
