BEGIN:VCALENDAR
VERSION:2.0
PRODID:-//Plone.org//NONSGML plone.app.event//EN
X-WR-TIMEZONE:US/Central
BEGIN:VEVENT
SUMMARY:Board Meeting
DTSTART;TZID=US/Central:20190110T160000
DTEND;TZID=US/Central:20190110T170000
DTSTAMP:20260425T021948Z
UID:978867f01d1843d398806d15112ce1fc@saas_stack_varnish:6080
CREATED:20170905T201935Z
LAST-MODIFIED:20180607T214317Z
LOCATION:Lower level of the library
URL:https://www.greenvillepubliclibrary.org/news-events/lib-cal/board-meet
 ing/2019-01-10
END:VEVENT
BEGIN:VTIMEZONE
TZID:US/Central
X-LIC-LOCATION:US/Central
BEGIN:STANDARD
DTSTART:20181104T010000
TZNAME:CST
TZOFFSETFROM:-0500
TZOFFSETTO:-0600
END:STANDARD
END:VTIMEZONE
END:VCALENDAR
