BEGIN:VCALENDAR
VERSION:2.0
PRODID:-//Plone.org//NONSGML plone.app.event//EN
X-WR-TIMEZONE:US/Central
BEGIN:VEVENT
SUMMARY:Children's Coloring Contest
DTSTART;TZID=US/Central:20250328T090000
DTEND;TZID=US/Central:20250412T120000
DTSTAMP:20260422T163806Z
UID:1888c520f0ff4f4ea1864dcf097d068b@saas_stack_varnish:6080
CREATED:20250312T183420Z
DESCRIPTION:Children may participate in our Easter Coloring Contest.
LAST-MODIFIED:20250312T183426Z
URL:https://www.greenvillepubliclibrary.org/news-events/lib-cal/childrens-
 coloring-contest-3
END:VEVENT
BEGIN:VTIMEZONE
TZID:US/Central
X-LIC-LOCATION:US/Central
BEGIN:DAYLIGHT
DTSTART:20250309T030000
TZNAME:CDT
TZOFFSETFROM:-0600
TZOFFSETTO:-0500
END:DAYLIGHT
END:VTIMEZONE
END:VCALENDAR
