BEGIN:VCALENDAR
VERSION:2.0
PRODID:-//Plone.org//NONSGML plone.app.event//EN
X-WR-TIMEZONE:US/Central
BEGIN:VEVENT
SUMMARY:Close early for Thanksgiving
DTSTART;VALUE=DATE:20241127
DTEND;VALUE=DATE:20241128
DTSTAMP:20260422T163219Z
UID:bcffdbbd536147dfbad2e61ffd953ed8@saas_stack_varnish:6080
CREATED:20241115T165650Z
DESCRIPTION:The Library will close at 5pm.
LAST-MODIFIED:20241115T165655Z
URL:https://www.greenvillepubliclibrary.org/news-events/lib-cal/close-earl
 y-for-thanksgiving
END:VEVENT
END:VCALENDAR
