BEGIN:VCALENDAR
VERSION:2.0
PRODID:-//Plone.org//NONSGML plone.app.event//EN
X-WR-TIMEZONE:US/Central
BEGIN:VEVENT
SUMMARY:Closed for New Year's
DTSTART;TZID=US/Central:20241231T090000
DTEND;TZID=US/Central:20250101T190000
DTSTAMP:20260420T140847Z
UID:f13fd6ba53f34cd18f9a94ef69e11c9a@saas_stack_varnish:6080
CREATED:20241210T194457Z
DESCRIPTION:The library will be closed for the New Year's holiday.
LAST-MODIFIED:20241210T194610Z
URL:https://www.greenvillepubliclibrary.org/news-events/lib-cal/closed-for
 -new-years
END:VEVENT
BEGIN:VTIMEZONE
TZID:US/Central
X-LIC-LOCATION:US/Central
BEGIN:STANDARD
DTSTART:20241103T010000
TZNAME:CST
TZOFFSETFROM:-0500
TZOFFSETTO:-0600
END:STANDARD
END:VTIMEZONE
END:VCALENDAR
