BEGIN:VCALENDAR
VERSION:2.0
PRODID:-//Plone.org//NONSGML plone.app.event//EN
X-WR-TIMEZONE:US/Central
BEGIN:VEVENT
SUMMARY:Fall Coloring Contest
DTSTART;TZID=US/Central:20211001T100000
DTSTAMP:20260422T145309Z
UID:1ee3b58877f649ea8ca87953417d33e6@saas_stack_varnish:6080
CREATED:20211001T141638Z
DESCRIPTION:Children from 0 to 10 may participate in our Fall Coloring Con
 test. Be sure to pick up or print off the color sheet that is right for yo
 u.
LAST-MODIFIED:20211001T141657Z
URL:https://www.greenvillepubliclibrary.org/news-events/lib-cal/fall-color
 ing-contest
END:VEVENT
BEGIN:VTIMEZONE
TZID:US/Central
X-LIC-LOCATION:US/Central
BEGIN:DAYLIGHT
DTSTART:20210314T030000
TZNAME:CDT
TZOFFSETFROM:-0600
TZOFFSETTO:-0500
END:DAYLIGHT
END:VTIMEZONE
END:VCALENDAR
