BEGIN:VCALENDAR
VERSION:2.0
PRODID:-//Plone.org//NONSGML plone.app.event//EN
X-WR-TIMEZONE:US/Central
BEGIN:VEVENT
SUMMARY:Family Reading Night
DTSTART;TZID=US/Central:20231116T180000
DTEND;TZID=US/Central:20231116T184500
DTSTAMP:20260423T050032Z
UID:6a71aa3c588c460ebe4065702b3c9f9e@saas_stack_varnish:6080
CREATED:20231031T145134Z
DESCRIPTION:Listen\, move\, and create with Mrs. Lugge and Mrs. Mains.
LAST-MODIFIED:20231031T145142Z
URL:https://www.greenvillepubliclibrary.org/news-events/lib-cal/family-rea
 ding-night-2
END:VEVENT
BEGIN:VTIMEZONE
TZID:US/Central
X-LIC-LOCATION:US/Central
BEGIN:STANDARD
DTSTART:20231105T010000
TZNAME:CST
TZOFFSETFROM:-0500
TZOFFSETTO:-0600
END:STANDARD
END:VTIMEZONE
END:VCALENDAR
