BEGIN:VCALENDAR
VERSION:2.0
PRODID:-//Plone.org//NONSGML plone.app.event//EN
X-WR-TIMEZONE:US/Central
BEGIN:VEVENT
SUMMARY:Hidden Ornament
DTSTART;TZID=US/Central:20231218T090000
DTEND;TZID=US/Central:20231222T170000
DTSTAMP:20260421T040601Z
UID:23dfa18dd4ab4e6ea286ee28aa0c01fd@saas_stack_varnish:6080
CREATED:20231218T205728Z
DESCRIPTION:Children\, visit the library and find the hidden ornament for 
 a prize.
LAST-MODIFIED:20231218T205737Z
URL:https://www.greenvillepubliclibrary.org/news-events/lib-cal/hidden-orn
 ament-1
END:VEVENT
BEGIN:VTIMEZONE
TZID:US/Central
X-LIC-LOCATION:US/Central
BEGIN:STANDARD
DTSTART:20231105T010000
TZNAME:CST
TZOFFSETFROM:-0500
TZOFFSETTO:-0600
END:STANDARD
END:VTIMEZONE
END:VCALENDAR
