BEGIN:VCALENDAR
VERSION:2.0
PRODID:-//Plone.org//NONSGML plone.app.event//EN
X-WR-TIMEZONE:US/Central
BEGIN:VEVENT
SUMMARY:Illinois Libraries Present
DTSTART;TZID=US/Central:20260416T190000
DTSTAMP:20260421T043414Z
UID:d18a42a0291c47f481081aa54717ba04@saas_stack_varnish:6080
CREATED:20260331T182550Z
DESCRIPTION:Sign up for the virtual event\, Cristina Henriquez: Voice\, Cu
 lture\, and Human Connection.
LAST-MODIFIED:20260331T182600Z
URL:https://www.greenvillepubliclibrary.org/news-events/lib-cal/illinois-l
 ibraries-present-5
END:VEVENT
BEGIN:VTIMEZONE
TZID:US/Central
X-LIC-LOCATION:US/Central
BEGIN:DAYLIGHT
DTSTART:20260308T030000
TZNAME:CDT
TZOFFSETFROM:-0600
TZOFFSETTO:-0500
END:DAYLIGHT
END:VTIMEZONE
END:VCALENDAR
