BEGIN:VCALENDAR
VERSION:2.0
PRODID:-//Plone.org//NONSGML plone.app.event//EN
X-WR-TIMEZONE:US/Central
BEGIN:VEVENT
SUMMARY:International Dog Biscuit Appreciation Day
DTSTART;VALUE=DATE:20250224
DTEND;VALUE=DATE:20250225
DTSTAMP:20260423T051127Z
UID:9612d382b6e14d8ba58f07dce001df4b@saas_stack_varnish:6080
CREATED:20250224T210847Z
DESCRIPTION:Check out material today and take some dog biscuits for a furr
 y friend.
LAST-MODIFIED:20250303T153807Z
URL:https://www.greenvillepubliclibrary.org/news-events/lib-cal/internatio
 nal-dog-biscuit-appreciation-day
END:VEVENT
END:VCALENDAR
