BEGIN:VCALENDAR
VERSION:2.0
PRODID:-//Plone.org//NONSGML plone.app.event//EN
X-WR-TIMEZONE:US/Central
BEGIN:VEVENT
SUMMARY:International Literacy Day
DTSTART;VALUE=DATE:20230908
DTEND;VALUE=DATE:20230909
DTSTAMP:20260423T142118Z
UID:892235aa0fc8460baa753054c48dd20c@saas_stack_varnish:6080
CREATED:20230829T205043Z
DESCRIPTION:Check out material today and enter your name into a drawing to
  win books from our stash.
LAST-MODIFIED:20230829T205054Z
URL:https://www.greenvillepubliclibrary.org/news-events/lib-cal/internatio
 nal-literacy-day-1
END:VEVENT
END:VCALENDAR
