BEGIN:VCALENDAR
VERSION:2.0
PRODID:-//Plone.org//NONSGML plone.app.event//EN
X-WR-TIMEZONE:US/Central
BEGIN:VEVENT
SUMMARY:Lego Club
DTSTART;TZID=US/Central:20260917T160000
DTEND;TZID=US/Central:20260917T180000
DTSTAMP:20260421T060715Z
UID:8765ca67230b4e69ad0fe920a610f3b8@saas_stack_varnish:6080
CREATED:20260331T184046Z
DESCRIPTION:Children may participate in the Library's Lego Club. See annou
 ncements for more details.
LAST-MODIFIED:20260331T184057Z
URL:https://www.greenvillepubliclibrary.org/news-events/lib-cal/lego-club-
 3/2026-09-17
END:VEVENT
BEGIN:VTIMEZONE
TZID:US/Central
X-LIC-LOCATION:US/Central
BEGIN:DAYLIGHT
DTSTART:20260308T030000
TZNAME:CDT
TZOFFSETFROM:-0600
TZOFFSETTO:-0500
END:DAYLIGHT
END:VTIMEZONE
END:VCALENDAR
