BEGIN:VCALENDAR
VERSION:2.0
PRODID:-//Plone.org//NONSGML plone.app.event//EN
X-WR-TIMEZONE:US/Central
BEGIN:VEVENT
SUMMARY:Lego Club
DTSTART;TZID=US/Central:20261217T160000
DTEND;TZID=US/Central:20261217T180000
DTSTAMP:20260421T075337Z
UID:8765ca67230b4e69ad0fe920a610f3b8@saas_stack_varnish:6080
CREATED:20260331T184046Z
DESCRIPTION:Children may participate in the Library's Lego Club. See annou
 ncements for more details.
LAST-MODIFIED:20260331T184057Z
URL:https://www.greenvillepubliclibrary.org/news-events/lib-cal/lego-club-
 3/2026-12-17
END:VEVENT
BEGIN:VTIMEZONE
TZID:US/Central
X-LIC-LOCATION:US/Central
BEGIN:STANDARD
DTSTART:20261101T010000
TZNAME:CST
TZOFFSETFROM:-0500
TZOFFSETTO:-0600
END:STANDARD
END:VTIMEZONE
END:VCALENDAR
