BEGIN:VCALENDAR
VERSION:2.0
PRODID:-//Plone.org//NONSGML plone.app.event//EN
X-WR-TIMEZONE:US/Central
BEGIN:VEVENT
SUMMARY:Library Closed
DTSTART;VALUE=DATE:20240704
DTEND;VALUE=DATE:20240705
DTSTAMP:20260421T195017Z
UID:a597b81a845c41888e1b8c7d6e90dd6e@saas_stack_varnish:6080
CREATED:20240604T145143Z
DESCRIPTION:The library is closed in observance of Independence Day.
LAST-MODIFIED:20240604T145154Z
URL:https://www.greenvillepubliclibrary.org/news-events/lib-cal/library-cl
 osed-1
END:VEVENT
END:VCALENDAR
