BEGIN:VCALENDAR
VERSION:2.0
PRODID:-//Plone.org//NONSGML plone.app.event//EN
X-WR-TIMEZONE:US/Central
BEGIN:VEVENT
SUMMARY:Library Lover's Day
DTSTART;VALUE=DATE:20230214
DTEND;VALUE=DATE:20230215
DTSTAMP:20260423T144344Z
UID:f236188cd0e246ffbcbbe315dc09bd1a@saas_stack_varnish:6080
CREATED:20230130T210513Z
DESCRIPTION:Check out material today and take a chance on winning a book f
 rom our book stash.
LAST-MODIFIED:20230130T210521Z
URL:https://www.greenvillepubliclibrary.org/news-events/lib-cal/library-lo
 vers-day-1
END:VEVENT
END:VCALENDAR
