BEGIN:VCALENDAR
VERSION:2.0
PRODID:-//Plone.org//NONSGML plone.app.event//EN
X-WR-TIMEZONE:US/Central
BEGIN:VEVENT
SUMMARY:Mother's Day Crafts
DTSTART;TZID=US/Central:20220504T100000
DTEND;TZID=US/Central:20220506T163000
DTSTAMP:20260422T175907Z
UID:af1a21842ad74bdfb5923f21fdec4412@saas_stack_varnish:6080
CREATED:20220502T143857Z
DESCRIPTION:Come to the Library May 4th through May 6th to make Mother's D
 ay gifts.
LAST-MODIFIED:20220502T143904Z
URL:https://www.greenvillepubliclibrary.org/news-events/lib-cal/mothers-da
 y-crafts
END:VEVENT
BEGIN:VTIMEZONE
TZID:US/Central
X-LIC-LOCATION:US/Central
BEGIN:DAYLIGHT
DTSTART:20220313T030000
TZNAME:CDT
TZOFFSETFROM:-0600
TZOFFSETTO:-0500
END:DAYLIGHT
END:VTIMEZONE
END:VCALENDAR
