BEGIN:VCALENDAR
VERSION:2.0
PRODID:-//Plone.org//NONSGML plone.app.event//EN
X-WR-TIMEZONE:US/Central
BEGIN:VEVENT
SUMMARY:National Book Lovers Day
DTSTART;VALUE=DATE:20220809
DTEND;VALUE=DATE:20220810
DTSTAMP:20260423T052051Z
UID:f054b58edbc5496ca57a432fc2674ee8@saas_stack_varnish:6080
CREATED:20220721T213426Z
DESCRIPTION:Check out material and enter your name into a drawing to win a
  book from our stash and possibly a t-shirt.
LAST-MODIFIED:20220721T213436Z
URL:https://www.greenvillepubliclibrary.org/news-events/lib-cal/national-b
 ook-lovers-day-1
END:VEVENT
END:VCALENDAR
