BEGIN:VCALENDAR
VERSION:2.0
PRODID:-//Plone.org//NONSGML plone.app.event//EN
X-WR-TIMEZONE:US/Central
BEGIN:VEVENT
SUMMARY:National Cheese Doodle Day
DTSTART;VALUE=DATE:20260305
DTEND;VALUE=DATE:20260306
DTSTAMP:20260419T132900Z
UID:6536510a6b064c889302fe5ea3c5922b@saas_stack_varnish:6080
CREATED:20260226T224310Z
DESCRIPTION:Check out material today and enter your name into a drawing fo
 r a mega-size container of Utz Cheese Balls.
LAST-MODIFIED:20260226T224324Z
URL:https://www.greenvillepubliclibrary.org/news-events/lib-cal/national-c
 heese-doodle-day-4
END:VEVENT
END:VCALENDAR
