BEGIN:VCALENDAR
VERSION:2.0
PRODID:-//Plone.org//NONSGML plone.app.event//EN
X-WR-TIMEZONE:US/Central
BEGIN:VEVENT
SUMMARY:National Chocolate Milkshake Day
DTSTART;VALUE=DATE:20220912
DTEND;VALUE=DATE:20220913
DTSTAMP:20260422T150303Z
UID:ce2cd47daa98421d836a0d226b4131f6@saas_stack_varnish:6080
CREATED:20220909T135153Z
DESCRIPTION:Check out material today for a chance to win a chocolate milks
 hake.
LAST-MODIFIED:20220909T135204Z
URL:https://www.greenvillepubliclibrary.org/news-events/lib-cal/national-c
 hocolate-milkshake-day-1
END:VEVENT
END:VCALENDAR
