BEGIN:VCALENDAR
VERSION:2.0
PRODID:-//Plone.org//NONSGML plone.app.event//EN
X-WR-TIMEZONE:US/Central
BEGIN:VEVENT
SUMMARY:National Do Something Nice Day
DTSTART;TZID=US/Central:20241005T090000
DTEND;TZID=US/Central:20241005T120000
DTSTAMP:20260421T201505Z
UID:1886ce28a32f48ad8051f7aacb33918b@saas_stack_varnish:6080
CREATED:20241004T145059Z
DESCRIPTION:Overdue fines will be waived today. See announcements for more
  information.
LAST-MODIFIED:20241004T145107Z
URL:https://www.greenvillepubliclibrary.org/news-events/lib-cal/national-d
 o-something-nice-day-3
END:VEVENT
BEGIN:VTIMEZONE
TZID:US/Central
X-LIC-LOCATION:US/Central
BEGIN:DAYLIGHT
DTSTART:20240310T030000
TZNAME:CDT
TZOFFSETFROM:-0600
TZOFFSETTO:-0500
END:DAYLIGHT
END:VTIMEZONE
END:VCALENDAR
