BEGIN:VCALENDAR
VERSION:2.0
PRODID:-//Plone.org//NONSGML plone.app.event//EN
X-WR-TIMEZONE:US/Central
BEGIN:VEVENT
SUMMARY:National Do Something Nice Day
DTSTART;VALUE=DATE:20211005
DTEND;VALUE=DATE:20211006
DTSTAMP:20260423T143758Z
UID:cfcf0a8db4384216bfcaead86668cb13@saas_stack_varnish:6080
CREATED:20211001T141915Z
DESCRIPTION:Patrons who come to the library today will have the chance to 
 pick an envelope with amounts from 15 cents to $5 to apply to current or f
 uture fines.
LAST-MODIFIED:20211001T141929Z
URL:https://www.greenvillepubliclibrary.org/news-events/lib-cal/national-d
 o-something-nice-day
END:VEVENT
END:VCALENDAR
