BEGIN:VCALENDAR
VERSION:2.0
PRODID:-//Plone.org//NONSGML plone.app.event//EN
X-WR-TIMEZONE:US/Central
BEGIN:VEVENT
SUMMARY:National Espresso Day
DTSTART;VALUE=DATE:20211123
DTEND;VALUE=DATE:20211124
DTSTAMP:20260421T194153Z
UID:ae159818561f462fb5968ae37c1f9341@saas_stack_varnish:6080
CREATED:20211115T195227Z
DESCRIPTION:Check out material today\, and enter your name into a drawing 
 to win a $10 gift card for coffee. We will give away two gift cards.
LAST-MODIFIED:20211115T195238Z
URL:https://www.greenvillepubliclibrary.org/news-events/lib-cal/national-e
 spresso-day
END:VEVENT
END:VCALENDAR
