BEGIN:VCALENDAR
VERSION:2.0
PRODID:-//Plone.org//NONSGML plone.app.event//EN
X-WR-TIMEZONE:US/Central
BEGIN:VEVENT
SUMMARY:National Houseplant Appreciation Day
DTSTART;VALUE=DATE:20230110
DTEND;VALUE=DATE:20230111
DTSTAMP:20260422T150647Z
UID:8ab65d4828fe4fa7acdc3c167661c1ad@saas_stack_varnish:6080
CREATED:20230104T220056Z
DESCRIPTION:Check out material today and enter into a drawing for a housep
 lant from Evergreen Plant Co.
LAST-MODIFIED:20230104T220105Z
URL:https://www.greenvillepubliclibrary.org/news-events/lib-cal/national-h
 ouseplant-appreciation-day-1
END:VEVENT
END:VCALENDAR
