BEGIN:VCALENDAR
VERSION:2.0
PRODID:-//Plone.org//NONSGML plone.app.event//EN
X-WR-TIMEZONE:US/Central
BEGIN:VEVENT
SUMMARY:National Lucky Penny Day
DTSTART;VALUE=DATE:20230523
DTEND;VALUE=DATE:20230524
DTSTAMP:20260422T145143Z
UID:dcd8191f42ce439b81020258de85a780@saas_stack_varnish:6080
CREATED:20230518T161841Z
DESCRIPTION:Find a specially marked penny for a prize.
LAST-MODIFIED:20230518T161848Z
URL:https://www.greenvillepubliclibrary.org/news-events/lib-cal/national-l
 ucky-penny-day-1
END:VEVENT
END:VCALENDAR
