BEGIN:VCALENDAR
VERSION:2.0
PRODID:-//Plone.org//NONSGML plone.app.event//EN
X-WR-TIMEZONE:US/Central
BEGIN:VEVENT
SUMMARY:National Lucky Penny Day
DTSTART;VALUE=DATE:20240523
DTEND;VALUE=DATE:20240524
DTSTAMP:20260420T135906Z
UID:a975aa8f727f49b1bd7e984e01065573@saas_stack_varnish:6080
CREATED:20240517T144107Z
DESCRIPTION:Visit the library and find a hidden penny for a special prize.
LAST-MODIFIED:20240517T144116Z
URL:https://www.greenvillepubliclibrary.org/news-events/lib-cal/national-l
 ucky-penny-day-2
END:VEVENT
END:VCALENDAR
