BEGIN:VCALENDAR
VERSION:2.0
PRODID:-//Plone.org//NONSGML plone.app.event//EN
X-WR-TIMEZONE:US/Central
BEGIN:VEVENT
SUMMARY:National M&M Day
DTSTART;VALUE=DATE:20221013
DTEND;VALUE=DATE:20221014
DTSTAMP:20260420T003729Z
UID:0f1963cc730f4fd5874eaf07f140aae7@saas_stack_varnish:6080
CREATED:20221003T214822Z
DESCRIPTION:Check out material today and receive a fun size bag of M&Ms co
 urtesy of Midland States Bank.
LAST-MODIFIED:20221003T214848Z
URL:https://www.greenvillepubliclibrary.org/news-events/lib-cal/national-m
 -m-day-1
END:VEVENT
END:VCALENDAR
