BEGIN:VCALENDAR
VERSION:2.0
PRODID:-//Plone.org//NONSGML plone.app.event//EN
X-WR-TIMEZONE:US/Central
BEGIN:VEVENT
SUMMARY:National Pencil Day
DTSTART;VALUE=DATE:20260331
DTEND;VALUE=DATE:20260401
DTSTAMP:20260421T055909Z
UID:1413e67aee7a4490a25e50897f042133@saas_stack_varnish:6080
CREATED:20260331T181709Z
DESCRIPTION:Check out material today and choose a pencil from the basket. 
 (It was actually yesterday.)
LAST-MODIFIED:20260331T181719Z
URL:https://www.greenvillepubliclibrary.org/news-events/lib-cal/national-p
 encil-day-4
END:VEVENT
END:VCALENDAR
