BEGIN:VCALENDAR
VERSION:2.0
PRODID:-//Plone.org//NONSGML plone.app.event//EN
X-WR-TIMEZONE:US/Central
BEGIN:VEVENT
SUMMARY:National Rubber Eraser Day
DTSTART;VALUE=DATE:20250415
DTEND;VALUE=DATE:20250416
DTSTAMP:20260421T055909Z
UID:9d45faa6ef4b4965ae0e7757c8fab7bb@saas_stack_varnish:6080
CREATED:20250407T180651Z
DESCRIPTION:Check out material today and choose an eraser from the basket.
LAST-MODIFIED:20250407T180659Z
URL:https://www.greenvillepubliclibrary.org/news-events/lib-cal/national-r
 ubber-eraser-day-2
END:VEVENT
END:VCALENDAR
