BEGIN:VCALENDAR
VERSION:2.0
PRODID:-//Plone.org//NONSGML plone.app.event//EN
X-WR-TIMEZONE:US/Central
BEGIN:VEVENT
SUMMARY:National Scrapbook Day
DTSTART;VALUE=DATE:20260502
DTEND;VALUE=DATE:20260503
DTSTAMP:20260421T043301Z
UID:7b49f04e682d41fba0121600118ccbc1@saas_stack_varnish:6080
CREATED:20260420T185637Z
DESCRIPTION:Check out material and enter your name into a drawing for a sc
 rapbook kit.
LAST-MODIFIED:20260420T185657Z
URL:https://www.greenvillepubliclibrary.org/news-events/lib-cal/national-s
 crapbook-day-1
END:VEVENT
END:VCALENDAR
