BEGIN:VCALENDAR
VERSION:2.0
PRODID:-//Plone.org//NONSGML plone.app.event//EN
X-WR-TIMEZONE:US/Central
BEGIN:VEVENT
SUMMARY:National Sundae Day
DTSTART;VALUE=DATE:20211112
DTEND;VALUE=DATE:20211113
DTSTAMP:20260423T142410Z
UID:725a073e08c64fcdbf229198b1c81577@saas_stack_varnish:6080
CREATED:20211029T132308Z
DESCRIPTION:Check out material for a chance to win a free sundae at Dairy 
 Queen.
LAST-MODIFIED:20211029T132318Z
URL:https://www.greenvillepubliclibrary.org/news-events/lib-cal/national-s
 undae-day
END:VEVENT
END:VCALENDAR
