BEGIN:VCALENDAR
VERSION:2.0
PRODID:-//Plone.org//NONSGML plone.app.event//EN
X-WR-TIMEZONE:US/Central
BEGIN:VEVENT
SUMMARY:National Take A Chance Day
DTSTART;VALUE=DATE:20240423
DTEND;VALUE=DATE:20240424
DTSTAMP:20260422T145800Z
UID:215b336d8552407fa4a7d65f5eea5646@saas_stack_varnish:6080
CREATED:20240422T142237Z
DESCRIPTION:Check out material for two opportunities to win.
LAST-MODIFIED:20240422T142245Z
URL:https://www.greenvillepubliclibrary.org/news-events/lib-cal/national-t
 ake-a-chance-day-1
END:VEVENT
END:VCALENDAR
