BEGIN:VCALENDAR
VERSION:2.0
PRODID:-//Plone.org//NONSGML plone.app.event//EN
X-WR-TIMEZONE:US/Central
BEGIN:VEVENT
SUMMARY:National Take A Chance Day
DTSTART;VALUE=DATE:20260423
DTEND;VALUE=DATE:20260424
DTSTAMP:20260422T145013Z
UID:020d6742cc364f2c844a75d621757f74@saas_stack_varnish:6080
CREATED:20260421T200916Z
DESCRIPTION:Check out material and guess how many beans are in the jar for
  a chance to win a prize.
LAST-MODIFIED:20260421T200936Z
URL:https://www.greenvillepubliclibrary.org/news-events/lib-cal/national-t
 ake-a-chance-day-3
END:VEVENT
END:VCALENDAR
