BEGIN:VCALENDAR
VERSION:2.0
PRODID:-//Plone.org//NONSGML plone.app.event//EN
X-WR-TIMEZONE:US/Central
BEGIN:VEVENT
SUMMARY:National Take A Chance Day
DTSTART;VALUE=DATE:20230422
DTEND;VALUE=DATE:20230423
DTSTAMP:20260423T051015Z
UID:472ab7eac2624fa08878062bda824e92@saas_stack_varnish:6080
CREATED:20230411T152752Z
DESCRIPTION:Check out material today and choose a slip with a money amount
  that will be applied to current fines or future ones.
LAST-MODIFIED:20230411T152833Z
URL:https://www.greenvillepubliclibrary.org/news-events/lib-cal/national-t
 ake-a-chance-day
END:VEVENT
END:VCALENDAR
