BEGIN:VCALENDAR
VERSION:2.0
PRODID:-//Plone.org//NONSGML plone.app.event//EN
X-WR-TIMEZONE:US/Central
BEGIN:VEVENT
SUMMARY:National Waffle Iron Day
DTSTART;VALUE=DATE:20230629
DTEND;VALUE=DATE:20230630
DTSTAMP:20260423T143939Z
UID:b68ad6a6a0894f609f17bc7f92398845@saas_stack_varnish:6080
CREATED:20230619T164906Z
DESCRIPTION:Check out material today and enter your name into a drawing fo
 r a mini waffle iron and waffle mix.
LAST-MODIFIED:20230619T164914Z
URL:https://www.greenvillepubliclibrary.org/news-events/lib-cal/national-w
 affle-iron-day-1
END:VEVENT
END:VCALENDAR
