BEGIN:VCALENDAR
VERSION:2.0
PRODID:-//Plone.org//NONSGML plone.app.event//EN
X-WR-TIMEZONE:US/Central
BEGIN:VEVENT
SUMMARY:National Waffle Iron Day
DTSTART;VALUE=DATE:20220629
DTEND;VALUE=DATE:20220630
DTSTAMP:20260426T042304Z
UID:986093db3d3f4f1c8e556fee1fe9856f@saas_stack_varnish:6080
CREATED:20220627T183504Z
DESCRIPTION:Check out material today and enter your name into a drawing fo
 r a small waffle iron and a box of waffle mix.
LAST-MODIFIED:20220627T183516Z
URL:https://www.greenvillepubliclibrary.org/news-events/lib-cal/national-w
 affle-iron-day
END:VEVENT
END:VCALENDAR
