BEGIN:VCALENDAR
VERSION:2.0
PRODID:-//Plone.org//NONSGML plone.app.event//EN
X-WR-TIMEZONE:US/Central
BEGIN:VEVENT
SUMMARY:National Watermelon Day
DTSTART;VALUE=DATE:20220803
DTEND;VALUE=DATE:20220804
DTSTAMP:20260421T201303Z
UID:0c7789a5a56843578fd24b61f4bfee02@saas_stack_varnish:6080
CREATED:20220721T211319Z
DESCRIPTION:Check out material today and enter your name into a drawing fo
 r a watermelon.
LAST-MODIFIED:20220721T211328Z
URL:https://www.greenvillepubliclibrary.org/news-events/lib-cal/national-w
 atermelon-day-1
END:VEVENT
END:VCALENDAR
