BEGIN:VCALENDAR
VERSION:2.0
PRODID:-//Plone.org//NONSGML plone.app.event//EN
X-WR-TIMEZONE:US/Central
BEGIN:VEVENT
SUMMARY:Paint-by-Numbers Presentation
DTSTART;TZID=US/Central:20240801T180000
DTSTAMP:20260423T142410Z
UID:daddce05580e485a872dd8ccc063e424@saas_stack_varnish:6080
CREATED:20240722T211311Z
DESCRIPTION:Dan Cochrane will present his paint-by-numbers collection.
LAST-MODIFIED:20240722T211318Z
URL:https://www.greenvillepubliclibrary.org/news-events/lib-cal/paint-by-n
 umbers-presentation
END:VEVENT
BEGIN:VTIMEZONE
TZID:US/Central
X-LIC-LOCATION:US/Central
BEGIN:DAYLIGHT
DTSTART:20240310T030000
TZNAME:CDT
TZOFFSETFROM:-0600
TZOFFSETTO:-0500
END:DAYLIGHT
END:VTIMEZONE
END:VCALENDAR
