BEGIN:VCALENDAR
VERSION:2.0
PRODID:-//Plone.org//NONSGML plone.app.event//EN
X-WR-TIMEZONE:US/Central
BEGIN:VEVENT
SUMMARY:Pardon Day
DTSTART;VALUE=DATE:20230908
DTEND;VALUE=DATE:20230909
DTSTAMP:20260421T194929Z
UID:878fb06f8b8c4e678825f17973aecb7e@saas_stack_varnish:6080
CREATED:20230829T205153Z
DESCRIPTION:Today only\, the library will waive late fees on returned item
 s.
LAST-MODIFIED:20230829T205204Z
URL:https://www.greenvillepubliclibrary.org/news-events/lib-cal/pardon-day
END:VEVENT
END:VCALENDAR
