BEGIN:VCALENDAR
VERSION:2.0
PRODID:-//Plone.org//NONSGML plone.app.event//EN
X-WR-TIMEZONE:US/Central
BEGIN:VEVENT
SUMMARY:Road Scholars Speakers
DTSTART;TZID=US/Central:20260416T190000
DTSTAMP:20260421T040757Z
UID:41ab48e9f3024b67a312b048e9f36722@saas_stack_varnish:6080
CREATED:20260331T182806Z
DESCRIPTION:Join us for our final Road Scholar presentation\, "Songs of th
 e Illinois Freedom Road." See announcements for more information.
LAST-MODIFIED:20260331T182815Z
URL:https://www.greenvillepubliclibrary.org/news-events/lib-cal/road-schol
 ars-speakers-2
END:VEVENT
BEGIN:VTIMEZONE
TZID:US/Central
X-LIC-LOCATION:US/Central
BEGIN:DAYLIGHT
DTSTART:20260308T030000
TZNAME:CDT
TZOFFSETFROM:-0600
TZOFFSETTO:-0500
END:DAYLIGHT
END:VTIMEZONE
END:VCALENDAR
