BEGIN:VCALENDAR
VERSION:2.0
PRODID:-//Plone.org//NONSGML plone.app.event//EN
X-WR-TIMEZONE:US/Central
BEGIN:VEVENT
SUMMARY:Road Scholars Speakers
DTSTART;TZID=US/Central:20260226T190000
DTSTAMP:20260419T122951Z
UID:6f15ed503bf44510bb10eee2b7615e0e@saas_stack_varnish:6080
CREATED:20260127T225805Z
DESCRIPTION:Join us at the Bradford Community Building for this free event
 : "Getting Your Kicks on Route 66." See announcements for more information
 .
LAST-MODIFIED:20260127T225819Z
URL:https://www.greenvillepubliclibrary.org/news-events/lib-cal/road-schol
 ars-speakers
END:VEVENT
BEGIN:VTIMEZONE
TZID:US/Central
X-LIC-LOCATION:US/Central
BEGIN:STANDARD
DTSTART:20251102T010000
TZNAME:CST
TZOFFSETFROM:-0500
TZOFFSETTO:-0600
END:STANDARD
END:VTIMEZONE
END:VCALENDAR
