BEGIN:VCALENDAR
VERSION:2.0
PRODID:-//Plone.org//NONSGML plone.app.event//EN
X-WR-TIMEZONE:US/Central
BEGIN:VEVENT
SUMMARY:Saturday Story Time
DTSTART;TZID=US/Central:20260801T103000
DTSTAMP:20260421T060309Z
UID:2a5e096e457d4a37ad5f2d2a6b91dbc9@saas_stack_varnish:6080
CREATED:20260331T183307Z
DESCRIPTION:Join us for Story Time on the first Saturday of every month.
LAST-MODIFIED:20260331T183317Z
URL:https://www.greenvillepubliclibrary.org/news-events/lib-cal/saturday-s
 tory-time-2/2026-08-01
END:VEVENT
BEGIN:VTIMEZONE
TZID:US/Central
X-LIC-LOCATION:US/Central
BEGIN:DAYLIGHT
DTSTART:20260308T030000
TZNAME:CDT
TZOFFSETFROM:-0600
TZOFFSETTO:-0500
END:DAYLIGHT
END:VTIMEZONE
END:VCALENDAR
