BEGIN:VCALENDAR
VERSION:2.0
PRODID:-//Plone.org//NONSGML plone.app.event//EN
X-WR-TIMEZONE:US/Central
BEGIN:VEVENT
SUMMARY:Saturday Story Time
DTSTART;TZID=US/Central:20270306T103000
DTSTAMP:20260421T081451Z
UID:2a5e096e457d4a37ad5f2d2a6b91dbc9@saas_stack_varnish:6080
CREATED:20260331T183307Z
DESCRIPTION:Join us for Story Time on the first Saturday of every month.
LAST-MODIFIED:20260331T183317Z
URL:https://www.greenvillepubliclibrary.org/news-events/lib-cal/saturday-s
 tory-time-2/2027-03-06
END:VEVENT
BEGIN:VTIMEZONE
TZID:US/Central
X-LIC-LOCATION:US/Central
BEGIN:STANDARD
DTSTART:20261101T010000
TZNAME:CST
TZOFFSETFROM:-0500
TZOFFSETTO:-0600
END:STANDARD
END:VTIMEZONE
END:VCALENDAR
