BEGIN:VCALENDAR
VERSION:2.0
PRODID:-//Plone.org//NONSGML plone.app.event//EN
X-WR-TIMEZONE:US/Central
BEGIN:VEVENT
SUMMARY:Spring Coloring Contest
DTSTART;TZID=US/Central:20220328T100000
DTEND;TZID=US/Central:20220413T183000
DTSTAMP:20260421T200108Z
UID:28efd93b160d49a88bd0ccdc70bdb56b@saas_stack_varnish:6080
CREATED:20220317T200641Z
DESCRIPTION:Children 0-6 and 7-10 are invited to participate in our colori
 ng contest that runs from March 28th to April 13.
LAST-MODIFIED:20220317T200655Z
URL:https://www.greenvillepubliclibrary.org/news-events/lib-cal/spring-col
 oring-contest
END:VEVENT
BEGIN:VTIMEZONE
TZID:US/Central
X-LIC-LOCATION:US/Central
BEGIN:DAYLIGHT
DTSTART:20220313T030000
TZNAME:CDT
TZOFFSETFROM:-0600
TZOFFSETTO:-0500
END:DAYLIGHT
END:VTIMEZONE
END:VCALENDAR
