BEGIN:VCALENDAR
VERSION:2.0
PRODID:-//Plone.org//NONSGML plone.app.event//EN
X-WR-TIMEZONE:US/Central
BEGIN:VEVENT
SUMMARY:Story Time Program
DTSTART;TZID=US/Central:20180609T100000
DTEND;TZID=US/Central:20180609T110000
DTSTAMP:20260422T145200Z
UID:ec00e8209fe24c389f1f09294ac7aa8f@saas_stack_varnish:6080
CREATED:20180607T212046Z
DESCRIPTION:Our librarian will read several books and have an activity bas
 ed on the theme for that day.
LAST-MODIFIED:20180607T212121Z
LOCATION:Lower level of the library
URL:https://www.greenvillepubliclibrary.org/news-events/lib-cal/story-time
 -program
END:VEVENT
BEGIN:VTIMEZONE
TZID:US/Central
X-LIC-LOCATION:US/Central
BEGIN:DAYLIGHT
DTSTART:20180311T030000
TZNAME:CDT
TZOFFSETFROM:-0600
TZOFFSETTO:-0500
END:DAYLIGHT
END:VTIMEZONE
END:VCALENDAR
