BEGIN:VCALENDAR
VERSION:2.0
PRODID:-//Plone.org//NONSGML plone.app.event//EN
X-WR-TIMEZONE:US/Central
BEGIN:VEVENT
SUMMARY:Stuffy Sleepover
DTSTART;TZID=US/Central:20220225T150000
DTEND;TZID=US/Central:20220226T113000
DTSTAMP:20260423T051204Z
UID:216f4e4fd5474b7d8b0115b3b7ae1491@saas_stack_varnish:6080
CREATED:20220216T194935Z
DESCRIPTION:Drop off your stuffy today for a Friday night sleepover at the
  library. Pick up your stuffy by 11:30 on Saturday.
LAST-MODIFIED:20220216T195140Z
URL:https://www.greenvillepubliclibrary.org/news-events/lib-cal/stuffy-sle
 epover
END:VEVENT
BEGIN:VTIMEZONE
TZID:US/Central
X-LIC-LOCATION:US/Central
BEGIN:STANDARD
DTSTART:20211107T010000
TZNAME:CST
TZOFFSETFROM:-0500
TZOFFSETTO:-0600
END:STANDARD
END:VTIMEZONE
END:VCALENDAR
