BEGIN:VCALENDAR
VERSION:2.0
PRODID:-//Plone.org//NONSGML plone.app.event//EN
X-WR-TIMEZONE:US/Central
BEGIN:VEVENT
SUMMARY:Summer Reading Ends
DTSTART;VALUE=DATE:20200803
DTEND;VALUE=DATE:20200804
DTSTAMP:20260422T163322Z
UID:a82e5906fa1d46cb9a4ecc0d65ad0e92@saas_stack_varnish:6080
CREATED:20200623T201915Z
DESCRIPTION:Adults and teens\, turn in your reading lists by 3 pm. Kids\, 
 today is the last day to turn in Bingo cards.
LAST-MODIFIED:20200623T201926Z
URL:https://www.greenvillepubliclibrary.org/news-events/lib-cal/summer-rea
 ding-ends
END:VEVENT
END:VCALENDAR
